BEGIN:VCALENDAR
VERSION:2.0
PRODID:-//Essex County Museum &amp; Historical Society - ECPv6.2.1//NONSGML v1.0//EN
CALSCALE:GREGORIAN
METHOD:PUBLISH
X-WR-CALNAME:Essex County Museum &amp; Historical Society
X-ORIGINAL-URL:https://ecmhs.org
X-WR-CALDESC:Events for Essex County Museum &amp; Historical Society
REFRESH-INTERVAL;VALUE=DURATION:PT1H
X-Robots-Tag:noindex
X-PUBLISHED-TTL:PT1H
BEGIN:VTIMEZONE
TZID:UTC
BEGIN:STANDARD
TZOFFSETFROM:+0000
TZOFFSETTO:+0000
TZNAME:UTC
DTSTART:20240101T000000
END:STANDARD
END:VTIMEZONE
BEGIN:VEVENT
DTSTART;TZID=UTC:20240713T140000
DTEND;TZID=UTC:20240713T170000
DTSTAMP:20260422T115307
CREATED:20240522T191140Z
LAST-MODIFIED:20240625T190553Z
UID:226153-1720879200-1720890000@ecmhs.org
SUMMARY:250th Anniversary Celebration of the Essex Resolutions
DESCRIPTION:Join us as we celebrate one of the early steps on the road to the American Revolution.  The Essex Resolutions were a proclamation of solidarity meant to strengthen and support the colonies in order to resist British oppression.  The afternoon will feature members of the Williamsburg Fife and Drum Corps\, colonial dancers\, a colonial stunt show\, musket displays\, food trucks\, and a Hamilton-inspired performance of the Essex Resolutions.  This event is free to the public!
URL:https://ecmhs.org/event/250th-anniversary-celebration-of-the-essex-resolutions/
LOCATION:Max Silver Memorial Courtyard
END:VEVENT
END:VCALENDAR