BEGIN:VCALENDAR
VERSION:2.0
PRODID:-//Essex County Museum &amp; Historical Society - ECPv6.2.1//NONSGML v1.0//EN
CALSCALE:GREGORIAN
METHOD:PUBLISH
X-WR-CALNAME:Essex County Museum &amp; Historical Society
X-ORIGINAL-URL:https://ecmhs.org
X-WR-CALDESC:Events for Essex County Museum &amp; Historical Society
REFRESH-INTERVAL;VALUE=DURATION:PT1H
X-Robots-Tag:noindex
X-PUBLISHED-TTL:PT1H
BEGIN:VTIMEZONE
TZID:UTC
BEGIN:STANDARD
TZOFFSETFROM:+0000
TZOFFSETTO:+0000
TZNAME:UTC
DTSTART:20250101T000000
END:STANDARD
END:VTIMEZONE
BEGIN:VEVENT
DTSTART;TZID=UTC:20250920T140000
DTEND;TZID=UTC:20250920T150000
DTSTAMP:20260422T225323
CREATED:20250903T155141Z
LAST-MODIFIED:20250903T155141Z
UID:233472-1758376800-1758380400@ecmhs.org
SUMMARY:Encore Presentation of "Colored Tourists Lodge at the Historic McGuire's Inn"
DESCRIPTION:Head over to the Essex High School’s Auditorium on Saturday\, September 20th at 2:00 pm for an encore presentation of this locally written play about the historic McGuire’s Inn right here in Tappahannock! \nWritten by Tappahannock’s own Gina McGuire\, who grew up in the McGuire’s Inn\, this is a wonderful chance to support local theater and learn some local history! \nTickets are $20 each and will be available at the door.
URL:https://ecmhs.org/event/encore-presentation-of-colored-tourists-lodge-at-the-historic-mcguires-inn/
END:VEVENT
BEGIN:VEVENT
DTSTART;TZID=UTC:20251101T133000
DTEND;TZID=UTC:20251101T163000
DTSTAMP:20260422T225323
CREATED:20250903T164637Z
LAST-MODIFIED:20250903T164705Z
UID:233480-1762003800-1762014600@ecmhs.org
SUMMARY:Annual Fall Oyster Roast and Courtyard Party
DESCRIPTION:Join us on November 1st for the Annual Fall Oyster Roast and Courtyard Party!
URL:https://ecmhs.org/event/annual-fall-oyster-roast-and-courtyard-party/
END:VEVENT
BEGIN:VEVENT
DTSTART;TZID=UTC:20260228T150000
DTEND;TZID=UTC:20260228T160000
DTSTAMP:20260422T225323
CREATED:20260223T214118Z
LAST-MODIFIED:20260223T214118Z
UID:233570-1772290800-1772294400@ecmhs.org
SUMMARY:
DESCRIPTION:Essex / Middlesex Revolutionary War Panel Discussion
URL:https://ecmhs.org/event/233570/
END:VEVENT
BEGIN:VEVENT
DTSTART;TZID=UTC:20260421T173000
DTEND;TZID=UTC:20260421T193000
DTSTAMP:20260422T225323
CREATED:20260307T121915Z
LAST-MODIFIED:20260307T121915Z
UID:233578-1776792600-1776799800@ecmhs.org
SUMMARY:Curated Cocktails at the 1710 Tavern
DESCRIPTION:Join us on Tuesday\, April 21st at 5:30 pm for Curated Cocktails at the historic 1710 Tavern! It’s an evening of live music\, artfully crafted bites\, and handcrafted drinks\, including our signature Curated Cocktail. Browse and bid on exclusive packages and prizes from local businesses in our Silent Auction\, all while supporting your local Museum.
URL:https://ecmhs.org/event/curated-cocktails-at-the-1710-tavern/
LOCATION:1710 Tavern\, 314 S. Water Lane\, Tappahannock\, Virginia\, 22560
END:VEVENT
BEGIN:VEVENT
DTSTART;TZID=UTC:20260516T100000
DTEND;TZID=UTC:20260516T150000
DTSTAMP:20260422T225323
CREATED:20260417T195516Z
LAST-MODIFIED:20260417T201335Z
UID:233591-1778925600-1778943600@ecmhs.org
SUMMARY:Whale of a Sale
DESCRIPTION:New this year\, get ready for the first-ever Whale of a Sale\, a unique fundraising event you won’t want to miss! On Saturday\, May 16th from 10:00am to 3:00pm\, browse a curated selection of antiques\, vintage collectibles\, furniture\, artwork\, home décor\, and more. The best part? Every 45 minutes to an hour\, an additional 10% discount is added to all sticker prices. The longer you browse\, the more you save! All the proceeds from this event will go to help support the Essex County Museum and Historical Society. Come early for the best selection\, or come late for the best deals. It’s a whale of a good time all in support of a great cause! \nIf you’d like to donate items for the sale\, please check out the listed criteria. Donations will be accepted during regular Museum hours from May 5th–14th (Tuesdays\, Thursdays\, Fridays\, and Saturdays from 10-3). Donation receipts will be available. \nIf you want first dibs on picking out something special\, you can get an exclusive head start at the Early Bird Reception on May 15th from 5:00–7:00pm! This ticketed event will give guests the chance to shop the full Whale of a Sale collection the evening before the public sale opens. The evening will feature a wine and beer reception along with some light hors d’oeuvres. It’s the perfect way to enjoy a fun night out while securing your treasures before the crowds arrive. Items purchased at the reception will be sold at a 20% markup above sticker price. \n			\n				TICKETS FOR THE EARLY BIRD RECEPTION WILL BE AVAILABLE SOON\n			\n				\n				\n				\n				\n				DONATION CRITERIA \n\n\nAccepted Items: Quality antiques\, vintage collectibles\, artwork\, dressers\, tables\, chairs\, bookshelves\, cookware\, lamps\, mirrors\, home décor\, and working small appliances and electronics (all parts present). Donation receipts will be available at the Museum. \n\nCondition: Items must be in “like-new” or excellent\, gently used condition.\nCleanliness: Furniture must be free of stains\, rips\, tears\, pet hair\, and odors (smoke/pet).\nFunctionality: Small appliances and electronics must be in working order.\nCompleteness: All furniture parts (handles\, drawers) must be present.\n\n\nItems Not Accepted:• Damaged Items: Ripped\, stained\, broken\, or water-damaged furniture.• Clothing: No clothing\, towels\, or linens• Oversized/Specific: Large entertainment centers\, sleeper sofas\, or mattresses.• Dangerous: Items that do not meet safety standards or have been recalled.• Materials: Particleboard items\, construction materials\, or items in poor condition.\n\nIf you have any quesitons about donations\, please email the Museum at COMMUNICATIONS@ECMHS.ORG
URL:https://ecmhs.org/event/whale-of-a-sale/
END:VEVENT
END:VCALENDAR