BEGIN:VCALENDAR
VERSION:2.0
PRODID:-//Essex County Museum &amp; Historical Society - ECPv6.2.1//NONSGML v1.0//EN
CALSCALE:GREGORIAN
METHOD:PUBLISH
X-WR-CALNAME:Essex County Museum &amp; Historical Society
X-ORIGINAL-URL:https://ecmhs.org
X-WR-CALDESC:Events for Essex County Museum &amp; Historical Society
REFRESH-INTERVAL;VALUE=DURATION:PT1H
X-Robots-Tag:noindex
X-PUBLISHED-TTL:PT1H
BEGIN:VTIMEZONE
TZID:UTC
BEGIN:STANDARD
TZOFFSETFROM:+0000
TZOFFSETTO:+0000
TZNAME:UTC
DTSTART:20210101T000000
END:STANDARD
END:VTIMEZONE
BEGIN:VEVENT
DTSTART;TZID=UTC:20210709T163000
DTEND;TZID=UTC:20210709T180000
DTSTAMP:20260422T215437
CREATED:20210629T144108Z
LAST-MODIFIED:20210629T144108Z
UID:1992-1625848200-1625853600@ecmhs.org
SUMMARY:Annual Commemoration & Reading of the Historic Essex County Colonial Resolutions
DESCRIPTION:The Rappahannock Chapter of the Virginia Society of the Sons of the American Revolution (SAR) is partnering with the Essex County Museum & Historical Society (ECMHS) as well as  the Henricopolis Chapter of the Daughters of the American Revolution (DAR) and Tappahannock Main Street (TMS) to conduct a Public Reading of the Historic Essex County Resolutions on the Essex County War Memorial Green (or inside the old Beale building if it is raining). This program\, which should last about 45-minutes\, will be followed by refreshments at the Essex Museum at 218 Water Lane.  The Public is invited and encouraged to attend. \n 
URL:https://ecmhs.org/event/annual-commemoration-reading-of-the-historic-essex-county-colonial-resolutions/
LOCATION:Essex County War Memorial Green\, Cross Street\, Tappahannock\, VA
END:VEVENT
BEGIN:VEVENT
DTSTART;TZID=UTC:20210225T080000
DTEND;TZID=UTC:20210225T170000
DTSTAMP:20260422T215437
CREATED:20210202T003332Z
LAST-MODIFIED:20210415T175616Z
UID:172-1614240000-1614272400@ecmhs.org
SUMMARY:Voices in Black History Virtual Event
DESCRIPTION:Essex County Museum is proud to host the “Voices in Black History” program. Presented by The Performance Guild of First Baptist Church under the direction of Gina McGuire. \nView the program
URL:https://ecmhs.org/event/voices-in-black-history/
ATTACH;FMTTYPE=image/png:https://ecmhs.org/wp-content/uploads/2021/03/Screen-Shot-2021-03-29-at-5.19.12-PM.png
END:VEVENT
END:VCALENDAR